BEGIN:VCALENDAR
VERSION:2.0
PRODID:-//Whidbey Earth &amp; Ocean Month - ECPv6.11.2//NONSGML v1.0//EN
CALSCALE:GREGORIAN
METHOD:PUBLISH
X-WR-CALNAME:Whidbey Earth &amp; Ocean Month
X-ORIGINAL-URL:https://whidbeyearthday.org
X-WR-CALDESC:Events for Whidbey Earth &amp; Ocean Month
REFRESH-INTERVAL;VALUE=DURATION:PT1H
X-Robots-Tag:noindex
X-PUBLISHED-TTL:PT1H
BEGIN:VTIMEZONE
TZID:America/Los_Angeles
BEGIN:DAYLIGHT
TZOFFSETFROM:-0800
TZOFFSETTO:-0700
TZNAME:PDT
DTSTART:20250309T100000
END:DAYLIGHT
BEGIN:STANDARD
TZOFFSETFROM:-0700
TZOFFSETTO:-0800
TZNAME:PST
DTSTART:20251102T090000
END:STANDARD
END:VTIMEZONE
BEGIN:VEVENT
DTSTART;TZID=America/Los_Angeles:20250417T130000
DTEND;TZID=America/Los_Angeles:20250417T140000
DTSTAMP:20260424T065313
CREATED:20250314T190709Z
LAST-MODIFIED:20250331T192524Z
UID:10695-1744894800-1744898400@whidbeyearthday.org
SUMMARY:What is Road Ecology & How Can Wildlife Benefit by It?
DESCRIPTION:We take roads and the vehicles who use them for granted without realizing the impacts they have on people\, wildlife and landscapes.  Every year millions of animals\, of all types\, die due to the 4 million miles of roads in the USA alone. They also contribute to wildfires. We’ll have a brief description of those impacts and what is being done to mitigate them here and abroad.  After that we can discuss what is being done in WA and what we can do personally to offset the carnage.\n\nWe’ll meet at Beaver Tales Coffee at the wharf in Coupeville. RSVP 360-720-3331\n\nGary Piazzon is a retired Physical Therapist with a long history of environmental education\, advocacy & activism including: president of the Whidbey Environmental Action Network for 20 years\, past conservation chair of Whidbey & Blue Water Audubon Society.
URL:https://whidbeyearthday.org/event/what-is-road-ecology-how-can-wildlife-benefit-by-it/
LOCATION:Beaver Tales Coffe\, 26 Front St NW\, Coupeville\, WA\, 98239\, United States
CATEGORIES:Discussions & Lectures
ATTACH;FMTTYPE=image/jpeg:https://whidbeyearthday.org/wp-content/uploads/2025/03/download-4.jpg
END:VEVENT
BEGIN:VEVENT
DTSTART;TZID=America/Los_Angeles:20250417T160000
DTEND;TZID=America/Los_Angeles:20250417T170000
DTSTAMP:20260424T065313
CREATED:20250311T205251Z
LAST-MODIFIED:20250311T205251Z
UID:10642-1744905600-1744909200@whidbeyearthday.org
SUMMARY:Whidbey Wonders: Two Years at Sea
DESCRIPTION:Oak Harbor residents John Goebel and his wife Karen Cox (along with Golden Retriever Sonny) threw caution to the wind and spent two years sailing around the world. They visited 4 countries\, travelled 6685 nautical miles\, and stopped at 10 ports of call. John and Karen will talk about their favorite places visited\, some of the challenges they faced and what they both learned from this extraordinary experience.
URL:https://whidbeyearthday.org/event/whidbey-wonders-two-years-at-sea/
LOCATION:Oak Harbor Library\, 1000 SE Regatta Dr\, Oak Harbor\, WA\, 98277\, United States
CATEGORIES:Discussions & Lectures
ATTACH;FMTTYPE=image/jpeg:https://whidbeyearthday.org/wp-content/uploads/2025/03/CAL_ScienceMathNature-DEFAULT-05766.jpg
END:VEVENT
END:VCALENDAR