BEGIN:VCALENDAR
VERSION:2.0
PRODID:-//Whidbey Earth &amp; Ocean Month - ECPv6.11.2//NONSGML v1.0//EN
CALSCALE:GREGORIAN
METHOD:PUBLISH
X-WR-CALNAME:Whidbey Earth &amp; Ocean Month
X-ORIGINAL-URL:https://whidbeyearthday.org
X-WR-CALDESC:Events for Whidbey Earth &amp; Ocean Month
REFRESH-INTERVAL;VALUE=DURATION:PT1H
X-Robots-Tag:noindex
X-PUBLISHED-TTL:PT1H
BEGIN:VTIMEZONE
TZID:America/Los_Angeles
BEGIN:DAYLIGHT
TZOFFSETFROM:-0800
TZOFFSETTO:-0700
TZNAME:PDT
DTSTART:20260308T100000
END:DAYLIGHT
BEGIN:STANDARD
TZOFFSETFROM:-0700
TZOFFSETTO:-0800
TZNAME:PST
DTSTART:20261101T090000
END:STANDARD
END:VTIMEZONE
BEGIN:VEVENT
DTSTART;VALUE=DATE:20260401
DTEND;VALUE=DATE:20260501
DTSTAMP:20260422T014322
CREATED:20260303T225814Z
LAST-MODIFIED:20260303T225814Z
UID:10814-1775001600-1777593599@whidbeyearthday.org
SUMMARY:Earth Day Every Day at Coupeville Wharf
DESCRIPTION:Enjoy a stroll on the wharf overlooking the waters of the world-famous Penn Cove in the Saratoga Passage Marine Stewardship Area. Enjoy our self-guided exhibits about the area’s rich marine life. \nEducational exhibits showcase marine mammals including the resident Orcas\, Pacific Blue Mussels\, and more. \nIn the Wharf lobby\, learn about the area’s Native American history and traditions such as the Penn Cove Water Festival canoe races that happen every May.
URL:https://whidbeyearthday.org/event/earth-day-every-day-at-coupeville-wharf/
LOCATION:Coupeville Wharf\, 24 Front Street\, Coupeville\, WA\, 98239\, United States
CATEGORIES:Walks & Tours
ATTACH;FMTTYPE=image/jpeg:https://whidbeyearthday.org/wp-content/uploads/2026/03/wharf-earth-day-26.jpg
ORGANIZER;CN="Port of Coupeville":MAILTO:community@portofcoupeville.org
END:VEVENT
BEGIN:VEVENT
DTSTART;VALUE=DATE:20260401
DTEND;VALUE=DATE:20260501
DTSTAMP:20260422T014322
CREATED:20260303T225858Z
LAST-MODIFIED:20260303T225858Z
UID:10819-1775001600-1777593599@whidbeyearthday.org
SUMMARY:Greenbank Farm Educational Gardens: Native Prairie\, & Plants\, Shade Gardens\, Cottage Gardens & Crevice Gardens
DESCRIPTION:Hands-on learning stations feature displays and educational gardens where you can learn about Composting. PNW Native Plants (many support pollinators)\, and Northwest Native Prairie. \nYou can also explore the Wetlands display. And there’s a Bird Watching platform with photos and background info on some of our frequent winged visitors along the Pacific Flyway. \nWe’re grateful for our partnership with WSU Extension and the ongoing Master Gardener volunteer efforts to maintain the Farm’s gardens!
URL:https://whidbeyearthday.org/event/greenbank-farm-educational-gardens-native-prairie-plants-shade-gardens-cottage-gardens-crevice-gardens/
LOCATION:Greenbak Farm\, 765 Wonn Rd\, Greenbank\, WA\, 98253\, United States
CATEGORIES:Walks & Tours
ATTACH;FMTTYPE=image/jpeg:https://whidbeyearthday.org/wp-content/uploads/2026/03/Farm-earth-day-26.jpg
ORGANIZER;CN="Port of Coupeville":MAILTO:community@portofcoupeville.org
END:VEVENT
BEGIN:VEVENT
DTSTART;TZID=America/Los_Angeles:20260418T090000
DTEND;TZID=America/Los_Angeles:20260418T120000
DTSTAMP:20260422T014322
CREATED:20260205T223743Z
LAST-MODIFIED:20260311T010536Z
UID:10775-1776502800-1776513600@whidbeyearthday.org
SUMMARY:Earth Day Work Party at Walking Ebey's
DESCRIPTION:Celebrate Earth Day at this trail system in Coupeville. We will be trimming\, collecting\, and dispersing fallen wood for wildfire prevention.\n\nDifficulty Level: Moderate\n\n\nPlease register at: www.wclt.org/get-involved/volunteer/volunteer-calendar\n\n(Our online registration page is experiencing some technical difficulties and we’re working to resolve the problem. If you run into issues on the webpage\, please email Taylor Schmuki at taylor@wclt.org to sign up for a work party).\n\nWork parties are affected by inclement weather and vegetation growth. Project descriptions are broad because we don’t know the exact work needed until closer to the date. If you have questions about a specific work party\, or want to learn more about volunteer opportunities\, please reach out to Taylor Schmuki at taylor@wclt.org.
URL:https://whidbeyearthday.org/event/earth-day-work-party-at-walking-ebeys/
LOCATION:Ebey’s Landing\, Coupeville\, WA\, 98239\, United States
CATEGORIES:Walks & Tours,Work Party
ATTACH;FMTTYPE=image/png:https://whidbeyearthday.org/wp-content/uploads/2026/02/wclt-logo.png
END:VEVENT
BEGIN:VEVENT
DTSTART;TZID=America/Los_Angeles:20260418T100000
DTEND;TZID=America/Los_Angeles:20260418T140000
DTSTAMP:20260422T014322
CREATED:20260311T221917Z
LAST-MODIFIED:20260311T221917Z
UID:10855-1776506400-1776520800@whidbeyearthday.org
SUMMARY:Coupeville Farmers Market Plant Start Swap
DESCRIPTION:Snag some cool seeds at the Great Whidbey Seed Swap. Bring any extra plant starts to the opening day of the Coupeville Farmers Market\, and swap your extra starts for something different\, new\, or something you just plain forgot! \nIn memory of Caroline Gardner of Fennel Forest Farm\, a 20 year member of the Coupeville Farmers Market.
URL:https://whidbeyearthday.org/event/coupeville-farmers-market-plant-start-swap/
LOCATION:Coupeville Farmers Market\, 788 NW Alexander Street\, Coupeville\, WA\, 98239\, United States
CATEGORIES:Farmers Market,Festivals
ATTACH;FMTTYPE=image/jpeg:https://whidbeyearthday.org/wp-content/uploads/2026/03/Plant-Start-Swap-Flyer.jpg
END:VEVENT
BEGIN:VEVENT
DTSTART;TZID=America/Los_Angeles:20260418T120000
DTEND;TZID=America/Los_Angeles:20260418T140000
DTSTAMP:20260422T014322
CREATED:20260313T174835Z
LAST-MODIFIED:20260313T174835Z
UID:10899-1776513600-1776520800@whidbeyearthday.org
SUMMARY:rePurpose Repair Cafe
DESCRIPTION:Volunteer menders and fixers will repair your items by donation. This event is at the South Whidbey Community Center\, Art Cafe (the old cafeteria by the gym) at 723 Camano Ave. Please fill out this form\, so we know what items to expect.
URL:https://whidbeyearthday.org/event/repurpose-repair-cafe/
LOCATION:South Whidbey Community Center\, Art Cafe\, 723 Camano Ave\, Langley\, WA\, 98260\, United States
CATEGORIES:Work Party
ATTACH;FMTTYPE=image/jpeg:https://whidbeyearthday.org/wp-content/uploads/2026/03/Repair-Cafe-1.jpg
END:VEVENT
END:VCALENDAR