BEGIN:VCALENDAR
VERSION:2.0
PRODID:-//Whidbey Earth &amp; Ocean Month - ECPv6.11.2//NONSGML v1.0//EN
CALSCALE:GREGORIAN
METHOD:PUBLISH
X-WR-CALNAME:Whidbey Earth &amp; Ocean Month
X-ORIGINAL-URL:https://whidbeyearthday.org
X-WR-CALDESC:Events for Whidbey Earth &amp; Ocean Month
REFRESH-INTERVAL;VALUE=DURATION:PT1H
X-Robots-Tag:noindex
X-PUBLISHED-TTL:PT1H
BEGIN:VTIMEZONE
TZID:America/Los_Angeles
BEGIN:DAYLIGHT
TZOFFSETFROM:-0800
TZOFFSETTO:-0700
TZNAME:PDT
DTSTART:20260308T100000
END:DAYLIGHT
BEGIN:STANDARD
TZOFFSETFROM:-0700
TZOFFSETTO:-0800
TZNAME:PST
DTSTART:20261101T090000
END:STANDARD
END:VTIMEZONE
BEGIN:VEVENT
DTSTART;VALUE=DATE:20260401
DTEND;VALUE=DATE:20260501
DTSTAMP:20260422T025901
CREATED:20260303T225814Z
LAST-MODIFIED:20260303T225814Z
UID:10814-1775001600-1777593599@whidbeyearthday.org
SUMMARY:Earth Day Every Day at Coupeville Wharf
DESCRIPTION:Enjoy a stroll on the wharf overlooking the waters of the world-famous Penn Cove in the Saratoga Passage Marine Stewardship Area. Enjoy our self-guided exhibits about the area’s rich marine life. \nEducational exhibits showcase marine mammals including the resident Orcas\, Pacific Blue Mussels\, and more. \nIn the Wharf lobby\, learn about the area’s Native American history and traditions such as the Penn Cove Water Festival canoe races that happen every May.
URL:https://whidbeyearthday.org/event/earth-day-every-day-at-coupeville-wharf/
LOCATION:Coupeville Wharf\, 24 Front Street\, Coupeville\, WA\, 98239\, United States
CATEGORIES:Walks & Tours
ATTACH;FMTTYPE=image/jpeg:https://whidbeyearthday.org/wp-content/uploads/2026/03/wharf-earth-day-26.jpg
ORGANIZER;CN="Port of Coupeville":MAILTO:community@portofcoupeville.org
END:VEVENT
BEGIN:VEVENT
DTSTART;VALUE=DATE:20260401
DTEND;VALUE=DATE:20260501
DTSTAMP:20260422T025901
CREATED:20260303T225858Z
LAST-MODIFIED:20260303T225858Z
UID:10819-1775001600-1777593599@whidbeyearthday.org
SUMMARY:Greenbank Farm Educational Gardens: Native Prairie\, & Plants\, Shade Gardens\, Cottage Gardens & Crevice Gardens
DESCRIPTION:Hands-on learning stations feature displays and educational gardens where you can learn about Composting. PNW Native Plants (many support pollinators)\, and Northwest Native Prairie. \nYou can also explore the Wetlands display. And there’s a Bird Watching platform with photos and background info on some of our frequent winged visitors along the Pacific Flyway. \nWe’re grateful for our partnership with WSU Extension and the ongoing Master Gardener volunteer efforts to maintain the Farm’s gardens!
URL:https://whidbeyearthday.org/event/greenbank-farm-educational-gardens-native-prairie-plants-shade-gardens-cottage-gardens-crevice-gardens/
LOCATION:Greenbak Farm\, 765 Wonn Rd\, Greenbank\, WA\, 98253\, United States
CATEGORIES:Walks & Tours
ATTACH;FMTTYPE=image/jpeg:https://whidbeyearthday.org/wp-content/uploads/2026/03/Farm-earth-day-26.jpg
ORGANIZER;CN="Port of Coupeville":MAILTO:community@portofcoupeville.org
END:VEVENT
BEGIN:VEVENT
DTSTART;TZID=America/Los_Angeles:20260422T100000
DTEND;TZID=America/Los_Angeles:20260422T140000
DTSTAMP:20260422T025901
CREATED:20260310T174556Z
LAST-MODIFIED:20260310T174556Z
UID:10825-1776852000-1776866400@whidbeyearthday.org
SUMMARY:Tour the Master Gardener Education Garden
DESCRIPTION:On Wednesday\, April 22\, come visit the lovely Education Garden at Greenbank Farm to wander through the nine different gardens and learn about plants that thrive here on Whidbey Island. WSU Extension Island County Master Gardeners will be available to answer your gardening questions from 10-12.
URL:https://whidbeyearthday.org/event/tour-the-master-gardener-education-garden/
LOCATION:Greenbak Farm\, 765 Wonn Rd\, Greenbank\, WA\, 98253\, United States
CATEGORIES:Walks & Tours
ATTACH;FMTTYPE=image/jpeg:https://whidbeyearthday.org/wp-content/uploads/2026/03/WGW2025-113.jpg
ORGANIZER;CN="WSU Master Gardeners":MAILTO:loren.imes@wsu.edu
END:VEVENT
BEGIN:VEVENT
DTSTART;TZID=America/Los_Angeles:20260422T110000
DTEND;TZID=America/Los_Angeles:20260422T150000
DTSTAMP:20260422T025901
CREATED:20260208T220422Z
LAST-MODIFIED:20260304T201549Z
UID:10787-1776855600-1776870000@whidbeyearthday.org
SUMMARY:Scotch Broom Removal Work Party
DESCRIPTION:Organized by St. Hubert’s Church Green Team and Goosefoot Community Fund. Be part of our growing community effort to repair and renew our island.  Let’s have fun together\, confronting a plant that’s trying to take over. \nClick here to read our brochure about Scotch Broom removal. \nTo volunteer\, please click on the link below:\nhttps://sthubertchurchlangley.flocknote.com/signup/248614 \nYou need only simple tools. Loppers. Hand clippers. Maybe a small hand saw. Wear gloves. Bring water. We’ll show you how to do it! \nWe will send you an email with the specific location for each day you sign up to come. We’re working on public property or that of a community\, non-profit organization. Thanks for being part of this party!
URL:https://whidbeyearthday.org/event/scotch-broom-removal-work-party-2/
LOCATION:WA
CATEGORIES:Work Party
ATTACH;FMTTYPE=image/jpeg:https://whidbeyearthday.org/wp-content/uploads/2026/02/11021swhidbeywebIversonScotchBroomRemoval-2.jpg
END:VEVENT
BEGIN:VEVENT
DTSTART;TZID=America/Los_Angeles:20260422T120000
DTEND;TZID=America/Los_Angeles:20260422T160000
DTSTAMP:20260422T025901
CREATED:20260313T175104Z
LAST-MODIFIED:20260313T175104Z
UID:10902-1776859200-1776873600@whidbeyearthday.org
SUMMARY:rePurpose Day
DESCRIPTION:Celebrate Earth Day with zero waste actions on Whidbey. Grand opening of rePurpose Whidbey at the new\, permanent location. Try the Drop Off program for free today – bring up to three grocery bags of reusable and hard to recycle materials from the accepted item list; call for artists to make art from reusable materials collected in our Reuse Center to be displayed at the event\, family friendly food and drinks\, music and zero waste activities.
URL:https://whidbeyearthday.org/event/repurpose-day/
LOCATION:rePurpose\, 724 Camano Ave\, Langley\, WA\, 98260\, United States
CATEGORIES:Walks & Tours
ATTACH;FMTTYPE=image/webp:https://whidbeyearthday.org/wp-content/uploads/2026/03/repurposefinalv2.webp
END:VEVENT
BEGIN:VEVENT
DTSTART;TZID=America/Los_Angeles:20260422T140000
DTEND;TZID=America/Los_Angeles:20260422T153000
DTSTAMP:20260422T025901
CREATED:20260310T175857Z
LAST-MODIFIED:20260310T175857Z
UID:10836-1776866400-1776871800@whidbeyearthday.org
SUMMARY:In Your ERA: Early Release Activities
DESCRIPTION:Drop in every Wednesday from 2-3:30pm to hang out with friends\, do a craft\, play a board game\, or work on homework. April’s programs will feature Earth and Ocean-themed craft projects. Snacks provided.
URL:https://whidbeyearthday.org/event/in-your-era-early-release-activities-3/
LOCATION:Langley Library\, 104 Second Street\, Langley\, WA\, 98260\, United States
CATEGORIES:Kids
ATTACH;FMTTYPE=image/jpeg:https://whidbeyearthday.org/wp-content/uploads/2026/03/little-girl-pot-painting-home.jpg
END:VEVENT
END:VCALENDAR